BEGIN:VCALENDAR
VERSION:2.0
PRODID:-//Elbdeich e.V. - ECPv6.15.20//NONSGML v1.0//EN
CALSCALE:GREGORIAN
METHOD:PUBLISH
X-WR-CALNAME:Elbdeich e.V.
X-ORIGINAL-URL:https://www.elbdeich.org
X-WR-CALDESC:Veranstaltungen für Elbdeich e.V.
REFRESH-INTERVAL;VALUE=DURATION:PT1H
X-Robots-Tag:noindex
X-PUBLISHED-TTL:PT1H
BEGIN:VTIMEZONE
TZID:Europe/Paris
BEGIN:DAYLIGHT
TZOFFSETFROM:+0100
TZOFFSETTO:+0200
TZNAME:CEST
DTSTART:20170326T010000
END:DAYLIGHT
BEGIN:STANDARD
TZOFFSETFROM:+0200
TZOFFSETTO:+0100
TZNAME:CET
DTSTART:20171029T010000
END:STANDARD
BEGIN:DAYLIGHT
TZOFFSETFROM:+0100
TZOFFSETTO:+0200
TZNAME:CEST
DTSTART:20180325T010000
END:DAYLIGHT
BEGIN:STANDARD
TZOFFSETFROM:+0200
TZOFFSETTO:+0100
TZNAME:CET
DTSTART:20181028T010000
END:STANDARD
BEGIN:DAYLIGHT
TZOFFSETFROM:+0100
TZOFFSETTO:+0200
TZNAME:CEST
DTSTART:20190331T010000
END:DAYLIGHT
BEGIN:STANDARD
TZOFFSETFROM:+0200
TZOFFSETTO:+0100
TZNAME:CET
DTSTART:20191027T010000
END:STANDARD
END:VTIMEZONE
BEGIN:VEVENT
DTSTART;TZID=Europe/Paris:20180414T190000
DTEND;TZID=Europe/Paris:20180414T220000
DTSTAMP:20260424T061818
CREATED:20180131T151249Z
LAST-MODIFIED:20180403T091528Z
UID:1576-1523732400-1523743200@www.elbdeich.org
SUMMARY:SüdLese 2018: Lesung mit Ulrich Kodjo Wendt\, Tim Hoffmann und der Autorin Lena Johannson
DESCRIPTION:  \nIm Rahmen der diesjährigen SüdLese haben wir gleich zwei tolle Künstler bei uns im Elbdeich e.V. \nZunächst wird uns Ulrich Kodjo Wendt und sein Kollege Tim Hoffmann mit einer musikalischen Lesung aus Moorburger Heimatstücken in den Abend begleiten. Dabei geht es um phantastische Fahrten in die unbekannte Nähe\, windumtoste Buden\, Baumhäuser\, Eisvögel\, Silberlachse und Verkehrskasper. \n  \nhttp://www.ulrichwendt.de/ \nIm Anschluss liest Lena Johannson\, auch Schriftstellerin mit Schubladenallergie genannt\, aus ihrem Bestseller „Sanddornsommer“. Die gelernte Buchhändlerin und Journalistin Lena Johannson\, im Norden mit ihrem Roman Das Marzipanmädchen bekannt geworden\, lässt sich höchst ungern in eine Schublade stecken. Seit 2007 veröffentlicht die aus Schleswig-Holstein stammende Autorin historische Romane\, Familiengeschichten mit Tiefgang\, leichte Strandkorblektüre aber auch Krimis und einen hochbrisanten Thriller\, der im Nahen Osten spielt. \nEgal\, ob leichte Kost oder harter Tobak\, immer ist es ihr wichtig\, den Handlungsort\, die Geschichte und das gesamte Thema gründlich zu recherchieren. Darum ist die ehemalige Reisejournalistin viel unterwegs\, von Rügen bis Riga\, von Sylt bis Syrien. \nMarkenzeichen ihrer Lesungen ist es\, den Zuhörern Einblick in ihren Schriftstelleralltag und reichlich Gelegenheit zu geben\, ihr Fragen zu stellen. Außerdem hat sie meist etwas im Gepäck\, das den Roman aus dem sie liest\, noch ein wenig lebendiger werden lässt\, wie etwa Sanddornköstlichkeiten\, Bernsteinöl oder Kakaobohnen. \nhttp://www.lena-johannson.de/ \n \nWICHTIG: Die Veranstaltung ist barrierefrei für Rollstuhlfahrer!\n__________________________________________________________________ \nDas komplette SüdLese 2018 Programm findet ihr hier als Pdf: \nhttp://www.sued-kultur.de/suedlese_2018_online.pdf
URL:https://www.elbdeich.org/event/lesung-mit-ulrich-kodjo-wendt-tim-hoffmann-und-der-autorin-lena-johannson/
LOCATION:elbdeich e.V.\, Moorburger Elbdeich 249\, Hamburg\, Hamburg\, 21079\, Deutschland
CATEGORIES:Lesung,Rollstuhl-zugänglich,SüdLese 2018
ATTACH;FMTTYPE=image/jpeg:https://www.elbdeich.org/wp-content/uploads/2018/01/Buchcover-Sanddornsommer.jpg
ORGANIZER;CN="elbdeich e.V.":MAILTO:info@elbdeich.org
END:VEVENT
END:VCALENDAR